BEGIN:VCALENDAR
VERSION:2.0
PRODID:-//The Urban StillHouse - ECPv6.15.20//NONSGML v1.0//EN
CALSCALE:GREGORIAN
METHOD:PUBLISH
X-ORIGINAL-URL:https://www.theurbanstillhouse.com
X-WR-CALDESC:Events for The Urban StillHouse
REFRESH-INTERVAL;VALUE=DURATION:PT1H
X-Robots-Tag:noindex
X-PUBLISHED-TTL:PT1H
BEGIN:VTIMEZONE
TZID:America/New_York
BEGIN:DAYLIGHT
TZOFFSETFROM:-0500
TZOFFSETTO:-0400
TZNAME:EDT
DTSTART:20250309T070000
END:DAYLIGHT
BEGIN:STANDARD
TZOFFSETFROM:-0400
TZOFFSETTO:-0500
TZNAME:EST
DTSTART:20251102T060000
END:STANDARD
BEGIN:DAYLIGHT
TZOFFSETFROM:-0500
TZOFFSETTO:-0400
TZNAME:EDT
DTSTART:20260308T070000
END:DAYLIGHT
BEGIN:STANDARD
TZOFFSETFROM:-0400
TZOFFSETTO:-0500
TZNAME:EST
DTSTART:20261101T060000
END:STANDARD
BEGIN:DAYLIGHT
TZOFFSETFROM:-0500
TZOFFSETTO:-0400
TZNAME:EDT
DTSTART:20270314T070000
END:DAYLIGHT
BEGIN:STANDARD
TZOFFSETFROM:-0400
TZOFFSETTO:-0500
TZNAME:EST
DTSTART:20271107T060000
END:STANDARD
END:VTIMEZONE
BEGIN:VEVENT
DTSTART;TZID=America/New_York:20260707T170000
DTEND;TZID=America/New_York:20260707T220000
DTSTAMP:20260419T124700
CREATED:20260417T133352Z
LAST-MODIFIED:20260417T133435Z
UID:10000095-1783443600-1783461600@www.theurbanstillhouse.com
SUMMARY:Now Open on Tuesday
DESCRIPTION:
URL:https://www.theurbanstillhouse.com/experiences/now-open-on-tuesday/2026-07-07/
LOCATION:The Urban Stillhouse\, 2232 5th Ave S\,\, St. Petersburg\, FL\, 33712
END:VEVENT
BEGIN:VEVENT
DTSTART;TZID=America/New_York:20260714T170000
DTEND;TZID=America/New_York:20260714T220000
DTSTAMP:20260419T124700
CREATED:20260417T133352Z
LAST-MODIFIED:20260417T133435Z
UID:10000102-1784048400-1784066400@www.theurbanstillhouse.com
SUMMARY:Now Open on Tuesday
DESCRIPTION:
URL:https://www.theurbanstillhouse.com/experiences/now-open-on-tuesday/2026-07-14/
LOCATION:The Urban Stillhouse\, 2232 5th Ave S\,\, St. Petersburg\, FL\, 33712
END:VEVENT
BEGIN:VEVENT
DTSTART;TZID=America/New_York:20260721T170000
DTEND;TZID=America/New_York:20260721T220000
DTSTAMP:20260419T124700
CREATED:20260417T133352Z
LAST-MODIFIED:20260417T133435Z
UID:10000109-1784653200-1784671200@www.theurbanstillhouse.com
SUMMARY:Now Open on Tuesday
DESCRIPTION:
URL:https://www.theurbanstillhouse.com/experiences/now-open-on-tuesday/2026-07-21/
LOCATION:The Urban Stillhouse\, 2232 5th Ave S\,\, St. Petersburg\, FL\, 33712
END:VEVENT
BEGIN:VEVENT
DTSTART;TZID=America/New_York:20260728T170000
DTEND;TZID=America/New_York:20260728T220000
DTSTAMP:20260419T124700
CREATED:20260417T133352Z
LAST-MODIFIED:20260417T133435Z
UID:10000116-1785258000-1785276000@www.theurbanstillhouse.com
SUMMARY:Now Open on Tuesday
DESCRIPTION:
URL:https://www.theurbanstillhouse.com/experiences/now-open-on-tuesday/2026-07-28/
LOCATION:The Urban Stillhouse\, 2232 5th Ave S\,\, St. Petersburg\, FL\, 33712
END:VEVENT
END:VCALENDAR