BEGIN:VCALENDAR
VERSION:2.0
PRODID:-//The Urban StillHouse - ECPv6.15.20//NONSGML v1.0//EN
CALSCALE:GREGORIAN
METHOD:PUBLISH
X-ORIGINAL-URL:https://www.theurbanstillhouse.com
X-WR-CALDESC:Events for The Urban StillHouse
REFRESH-INTERVAL;VALUE=DURATION:PT1H
X-Robots-Tag:noindex
X-PUBLISHED-TTL:PT1H
BEGIN:VTIMEZONE
TZID:America/New_York
BEGIN:DAYLIGHT
TZOFFSETFROM:-0500
TZOFFSETTO:-0400
TZNAME:EDT
DTSTART:20250309T070000
END:DAYLIGHT
BEGIN:STANDARD
TZOFFSETFROM:-0400
TZOFFSETTO:-0500
TZNAME:EST
DTSTART:20251102T060000
END:STANDARD
BEGIN:DAYLIGHT
TZOFFSETFROM:-0500
TZOFFSETTO:-0400
TZNAME:EDT
DTSTART:20260308T070000
END:DAYLIGHT
BEGIN:STANDARD
TZOFFSETFROM:-0400
TZOFFSETTO:-0500
TZNAME:EST
DTSTART:20261101T060000
END:STANDARD
BEGIN:DAYLIGHT
TZOFFSETFROM:-0500
TZOFFSETTO:-0400
TZNAME:EDT
DTSTART:20270314T070000
END:DAYLIGHT
BEGIN:STANDARD
TZOFFSETFROM:-0400
TZOFFSETTO:-0500
TZNAME:EST
DTSTART:20271107T060000
END:STANDARD
END:VTIMEZONE
BEGIN:VEVENT
DTSTART;TZID=America/New_York:20260901T170000
DTEND;TZID=America/New_York:20260901T220000
DTSTAMP:20260419T160059
CREATED:20260417T133352Z
LAST-MODIFIED:20260417T133435Z
UID:10000151-1788282000-1788300000@www.theurbanstillhouse.com
SUMMARY:Now Open on Tuesday
DESCRIPTION:
URL:https://www.theurbanstillhouse.com/experiences/now-open-on-tuesday/2026-09-01/
LOCATION:The Urban Stillhouse\, 2232 5th Ave S\,\, St. Petersburg\, FL\, 33712
END:VEVENT
BEGIN:VEVENT
DTSTART;TZID=America/New_York:20260908T170000
DTEND;TZID=America/New_York:20260908T220000
DTSTAMP:20260419T160059
CREATED:20260417T133352Z
LAST-MODIFIED:20260417T133435Z
UID:10000158-1788886800-1788904800@www.theurbanstillhouse.com
SUMMARY:Now Open on Tuesday
DESCRIPTION:
URL:https://www.theurbanstillhouse.com/experiences/now-open-on-tuesday/2026-09-08/
LOCATION:The Urban Stillhouse\, 2232 5th Ave S\,\, St. Petersburg\, FL\, 33712
END:VEVENT
BEGIN:VEVENT
DTSTART;TZID=America/New_York:20260915T170000
DTEND;TZID=America/New_York:20260915T220000
DTSTAMP:20260419T160059
CREATED:20260417T133352Z
LAST-MODIFIED:20260417T133435Z
UID:10000165-1789491600-1789509600@www.theurbanstillhouse.com
SUMMARY:Now Open on Tuesday
DESCRIPTION:
URL:https://www.theurbanstillhouse.com/experiences/now-open-on-tuesday/2026-09-15/
LOCATION:The Urban Stillhouse\, 2232 5th Ave S\,\, St. Petersburg\, FL\, 33712
END:VEVENT
BEGIN:VEVENT
DTSTART;TZID=America/New_York:20260922T170000
DTEND;TZID=America/New_York:20260922T220000
DTSTAMP:20260419T160059
CREATED:20260417T133352Z
LAST-MODIFIED:20260417T133435Z
UID:10000172-1790096400-1790114400@www.theurbanstillhouse.com
SUMMARY:Now Open on Tuesday
DESCRIPTION:
URL:https://www.theurbanstillhouse.com/experiences/now-open-on-tuesday/2026-09-22/
LOCATION:The Urban Stillhouse\, 2232 5th Ave S\,\, St. Petersburg\, FL\, 33712
END:VEVENT
BEGIN:VEVENT
DTSTART;TZID=America/New_York:20260929T170000
DTEND;TZID=America/New_York:20260929T220000
DTSTAMP:20260419T160059
CREATED:20260417T133352Z
LAST-MODIFIED:20260417T133435Z
UID:10000179-1790701200-1790719200@www.theurbanstillhouse.com
SUMMARY:Now Open on Tuesday
DESCRIPTION:
URL:https://www.theurbanstillhouse.com/experiences/now-open-on-tuesday/2026-09-29/
LOCATION:The Urban Stillhouse\, 2232 5th Ave S\,\, St. Petersburg\, FL\, 33712
END:VEVENT
END:VCALENDAR