BEGIN:VCALENDAR
VERSION:2.0
PRODID:-//The Urban StillHouse - ECPv6.15.20//NONSGML v1.0//EN
CALSCALE:GREGORIAN
METHOD:PUBLISH
X-ORIGINAL-URL:https://www.theurbanstillhouse.com
X-WR-CALDESC:Events for The Urban StillHouse
REFRESH-INTERVAL;VALUE=DURATION:PT1H
X-Robots-Tag:noindex
X-PUBLISHED-TTL:PT1H
BEGIN:VTIMEZONE
TZID:America/New_York
BEGIN:DAYLIGHT
TZOFFSETFROM:-0500
TZOFFSETTO:-0400
TZNAME:EDT
DTSTART:20260308T070000
END:DAYLIGHT
BEGIN:STANDARD
TZOFFSETFROM:-0400
TZOFFSETTO:-0500
TZNAME:EST
DTSTART:20261101T060000
END:STANDARD
BEGIN:DAYLIGHT
TZOFFSETFROM:-0500
TZOFFSETTO:-0400
TZNAME:EDT
DTSTART:20270314T070000
END:DAYLIGHT
BEGIN:STANDARD
TZOFFSETFROM:-0400
TZOFFSETTO:-0500
TZNAME:EST
DTSTART:20271107T060000
END:STANDARD
BEGIN:DAYLIGHT
TZOFFSETFROM:-0500
TZOFFSETTO:-0400
TZNAME:EDT
DTSTART:20280312T070000
END:DAYLIGHT
BEGIN:STANDARD
TZOFFSETFROM:-0400
TZOFFSETTO:-0500
TZNAME:EST
DTSTART:20281105T060000
END:STANDARD
END:VTIMEZONE
BEGIN:VEVENT
DTSTART;TZID=America/New_York:20271207T170000
DTEND;TZID=America/New_York:20271207T220000
DTSTAMP:20260424T174319
CREATED:20260417T133352Z
LAST-MODIFIED:20260417T133435Z
UID:10000613-1828198800-1828216800@www.theurbanstillhouse.com
SUMMARY:Now Open on Tuesday
DESCRIPTION:
URL:https://www.theurbanstillhouse.com/experiences/now-open-on-tuesday/2027-12-07/
LOCATION:The Urban Stillhouse\, 2232 5th Ave S\,\, St. Petersburg\, FL\, 33712
END:VEVENT
BEGIN:VEVENT
DTSTART;TZID=America/New_York:20271214T170000
DTEND;TZID=America/New_York:20271214T220000
DTSTAMP:20260424T174319
CREATED:20260417T133352Z
LAST-MODIFIED:20260417T133435Z
UID:10000620-1828803600-1828821600@www.theurbanstillhouse.com
SUMMARY:Now Open on Tuesday
DESCRIPTION:
URL:https://www.theurbanstillhouse.com/experiences/now-open-on-tuesday/2027-12-14/
LOCATION:The Urban Stillhouse\, 2232 5th Ave S\,\, St. Petersburg\, FL\, 33712
END:VEVENT
BEGIN:VEVENT
DTSTART;TZID=America/New_York:20271221T170000
DTEND;TZID=America/New_York:20271221T220000
DTSTAMP:20260424T174319
CREATED:20260417T133352Z
LAST-MODIFIED:20260417T133435Z
UID:10000627-1829408400-1829426400@www.theurbanstillhouse.com
SUMMARY:Now Open on Tuesday
DESCRIPTION:
URL:https://www.theurbanstillhouse.com/experiences/now-open-on-tuesday/2027-12-21/
LOCATION:The Urban Stillhouse\, 2232 5th Ave S\,\, St. Petersburg\, FL\, 33712
END:VEVENT
BEGIN:VEVENT
DTSTART;TZID=America/New_York:20271228T170000
DTEND;TZID=America/New_York:20271228T220000
DTSTAMP:20260424T174319
CREATED:20260417T133352Z
LAST-MODIFIED:20260417T133435Z
UID:10000634-1830013200-1830031200@www.theurbanstillhouse.com
SUMMARY:Now Open on Tuesday
DESCRIPTION:
URL:https://www.theurbanstillhouse.com/experiences/now-open-on-tuesday/2027-12-28/
LOCATION:The Urban Stillhouse\, 2232 5th Ave S\,\, St. Petersburg\, FL\, 33712
END:VEVENT
END:VCALENDAR