BEGIN:VCALENDAR
VERSION:2.0
PRODID:-//The Urban StillHouse - ECPv6.15.20//NONSGML v1.0//EN
CALSCALE:GREGORIAN
METHOD:PUBLISH
X-WR-CALNAME:The Urban StillHouse
X-ORIGINAL-URL:https://www.theurbanstillhouse.com
X-WR-CALDESC:Events for The Urban StillHouse
REFRESH-INTERVAL;VALUE=DURATION:PT1H
X-Robots-Tag:noindex
X-PUBLISHED-TTL:PT1H
BEGIN:VTIMEZONE
TZID:America/New_York
BEGIN:DAYLIGHT
TZOFFSETFROM:-0500
TZOFFSETTO:-0400
TZNAME:EDT
DTSTART:20270314T070000
END:DAYLIGHT
BEGIN:STANDARD
TZOFFSETFROM:-0400
TZOFFSETTO:-0500
TZNAME:EST
DTSTART:20271107T060000
END:STANDARD
BEGIN:DAYLIGHT
TZOFFSETFROM:-0500
TZOFFSETTO:-0400
TZNAME:EDT
DTSTART:20280312T070000
END:DAYLIGHT
BEGIN:STANDARD
TZOFFSETFROM:-0400
TZOFFSETTO:-0500
TZNAME:EST
DTSTART:20281105T060000
END:STANDARD
BEGIN:DAYLIGHT
TZOFFSETFROM:-0500
TZOFFSETTO:-0400
TZNAME:EDT
DTSTART:20290311T070000
END:DAYLIGHT
BEGIN:STANDARD
TZOFFSETFROM:-0400
TZOFFSETTO:-0500
TZNAME:EST
DTSTART:20291104T060000
END:STANDARD
END:VTIMEZONE
BEGIN:VEVENT
DTSTART;TZID=America/New_York:20280905T170000
DTEND;TZID=America/New_York:20280905T220000
DTSTAMP:20260425T103156
CREATED:20260417T133352Z
LAST-MODIFIED:20260417T133435Z
UID:10000886-1851786000-1851804000@www.theurbanstillhouse.com
SUMMARY:Now Open on Tuesday
DESCRIPTION:
URL:https://www.theurbanstillhouse.com/experiences/now-open-on-tuesday/2028-09-05/
LOCATION:The Urban Stillhouse\, 2232 5th Ave S\,\, St. Petersburg\, FL\, 33712
END:VEVENT
BEGIN:VEVENT
DTSTART;TZID=America/New_York:20280912T170000
DTEND;TZID=America/New_York:20280912T220000
DTSTAMP:20260425T103157
CREATED:20260417T133352Z
LAST-MODIFIED:20260417T133435Z
UID:10000893-1852390800-1852408800@www.theurbanstillhouse.com
SUMMARY:Now Open on Tuesday
DESCRIPTION:
URL:https://www.theurbanstillhouse.com/experiences/now-open-on-tuesday/2028-09-12/
LOCATION:The Urban Stillhouse\, 2232 5th Ave S\,\, St. Petersburg\, FL\, 33712
END:VEVENT
BEGIN:VEVENT
DTSTART;TZID=America/New_York:20280919T170000
DTEND;TZID=America/New_York:20280919T220000
DTSTAMP:20260425T103157
CREATED:20260417T133352Z
LAST-MODIFIED:20260417T133435Z
UID:10000900-1852995600-1853013600@www.theurbanstillhouse.com
SUMMARY:Now Open on Tuesday
DESCRIPTION:
URL:https://www.theurbanstillhouse.com/experiences/now-open-on-tuesday/2028-09-19/
LOCATION:The Urban Stillhouse\, 2232 5th Ave S\,\, St. Petersburg\, FL\, 33712
END:VEVENT
BEGIN:VEVENT
DTSTART;TZID=America/New_York:20280926T170000
DTEND;TZID=America/New_York:20280926T220000
DTSTAMP:20260425T103157
CREATED:20260417T133352Z
LAST-MODIFIED:20260417T133435Z
UID:10000907-1853600400-1853618400@www.theurbanstillhouse.com
SUMMARY:Now Open on Tuesday
DESCRIPTION:
URL:https://www.theurbanstillhouse.com/experiences/now-open-on-tuesday/2028-09-26/
LOCATION:The Urban Stillhouse\, 2232 5th Ave S\,\, St. Petersburg\, FL\, 33712
END:VEVENT
END:VCALENDAR