BEGIN:VCALENDAR
VERSION:2.0
PRODID:-//The Urban StillHouse - ECPv6.15.20//NONSGML v1.0//EN
CALSCALE:GREGORIAN
METHOD:PUBLISH
X-WR-CALNAME:The Urban StillHouse
X-ORIGINAL-URL:https://www.theurbanstillhouse.com
X-WR-CALDESC:Events for The Urban StillHouse
REFRESH-INTERVAL;VALUE=DURATION:PT1H
X-Robots-Tag:noindex
X-PUBLISHED-TTL:PT1H
BEGIN:VTIMEZONE
TZID:America/New_York
BEGIN:DAYLIGHT
TZOFFSETFROM:-0500
TZOFFSETTO:-0400
TZNAME:EDT
DTSTART:20280312T070000
END:DAYLIGHT
BEGIN:STANDARD
TZOFFSETFROM:-0400
TZOFFSETTO:-0500
TZNAME:EST
DTSTART:20281105T060000
END:STANDARD
BEGIN:DAYLIGHT
TZOFFSETFROM:-0500
TZOFFSETTO:-0400
TZNAME:EDT
DTSTART:20290311T070000
END:DAYLIGHT
BEGIN:STANDARD
TZOFFSETFROM:-0400
TZOFFSETTO:-0500
TZNAME:EST
DTSTART:20291104T060000
END:STANDARD
BEGIN:DAYLIGHT
TZOFFSETFROM:-0500
TZOFFSETTO:-0400
TZNAME:EDT
DTSTART:20300310T070000
END:DAYLIGHT
BEGIN:STANDARD
TZOFFSETFROM:-0400
TZOFFSETTO:-0500
TZNAME:EST
DTSTART:20301103T060000
END:STANDARD
END:VTIMEZONE
BEGIN:VEVENT
DTSTART;TZID=America/New_York:20290102T170000
DTEND;TZID=America/New_York:20290102T220000
DTSTAMP:20260425T173243
CREATED:20260417T133352Z
LAST-MODIFIED:20260417T133435Z
UID:10001005-1862067600-1862085600@www.theurbanstillhouse.com
SUMMARY:Now Open on Tuesday
DESCRIPTION:
URL:https://www.theurbanstillhouse.com/experiences/now-open-on-tuesday/2029-01-02/
LOCATION:The Urban Stillhouse\, 2232 5th Ave S\,\, St. Petersburg\, FL\, 33712
END:VEVENT
BEGIN:VEVENT
DTSTART;TZID=America/New_York:20290109T170000
DTEND;TZID=America/New_York:20290109T220000
DTSTAMP:20260425T173243
CREATED:20260417T133352Z
LAST-MODIFIED:20260417T133435Z
UID:10001012-1862672400-1862690400@www.theurbanstillhouse.com
SUMMARY:Now Open on Tuesday
DESCRIPTION:
URL:https://www.theurbanstillhouse.com/experiences/now-open-on-tuesday/2029-01-09/
LOCATION:The Urban Stillhouse\, 2232 5th Ave S\,\, St. Petersburg\, FL\, 33712
END:VEVENT
BEGIN:VEVENT
DTSTART;TZID=America/New_York:20290116T170000
DTEND;TZID=America/New_York:20290116T220000
DTSTAMP:20260425T173243
CREATED:20260417T133352Z
LAST-MODIFIED:20260417T133435Z
UID:10001019-1863277200-1863295200@www.theurbanstillhouse.com
SUMMARY:Now Open on Tuesday
DESCRIPTION:
URL:https://www.theurbanstillhouse.com/experiences/now-open-on-tuesday/2029-01-16/
LOCATION:The Urban Stillhouse\, 2232 5th Ave S\,\, St. Petersburg\, FL\, 33712
END:VEVENT
BEGIN:VEVENT
DTSTART;TZID=America/New_York:20290123T170000
DTEND;TZID=America/New_York:20290123T220000
DTSTAMP:20260425T173243
CREATED:20260417T133352Z
LAST-MODIFIED:20260417T133435Z
UID:10001026-1863882000-1863900000@www.theurbanstillhouse.com
SUMMARY:Now Open on Tuesday
DESCRIPTION:
URL:https://www.theurbanstillhouse.com/experiences/now-open-on-tuesday/2029-01-23/
LOCATION:The Urban Stillhouse\, 2232 5th Ave S\,\, St. Petersburg\, FL\, 33712
END:VEVENT
BEGIN:VEVENT
DTSTART;TZID=America/New_York:20290130T170000
DTEND;TZID=America/New_York:20290130T220000
DTSTAMP:20260425T173243
CREATED:20260417T133352Z
LAST-MODIFIED:20260417T133435Z
UID:10001033-1864486800-1864504800@www.theurbanstillhouse.com
SUMMARY:Now Open on Tuesday
DESCRIPTION:
URL:https://www.theurbanstillhouse.com/experiences/now-open-on-tuesday/2029-01-30/
LOCATION:The Urban Stillhouse\, 2232 5th Ave S\,\, St. Petersburg\, FL\, 33712
END:VEVENT
END:VCALENDAR